BEGIN:VCALENDAR
VERSION:2.0
PRODID:-//wp-events-plugin.com//7.2.2.1//EN
TZID:Europe/London
X-WR-TIMEZONE:Europe/London
BEGIN:VEVENT
UID:4619@autismberkshire.org.uk
DTSTART;TZID=Europe/London:20250203T180000
DTEND;TZID=Europe/London:20250203T210000
DTSTAMP:20241204T145125Z
URL:https://www.autismberkshire.org.uk/otherevents/197-club-meet-eat-and-c
 hat-at-the-outlook-9-2025-02-03/
SUMMARY:197 Club - meet\, eat and chat at the Outlook
DESCRIPTION:Social group for over-18s who have a diagnosis of an autism spe
 ctrum condition and their carers\, meets fortnightly. Every other meeting 
 takes place at The Outlook pub.\n\nVenues for other meetings vary and can
  include bowling arcades\, restaurants or walks. Click here for details.\n
 \nFor more information about the group\, contact the office on 01189 594 5
 94 (option 2) or email the group co-ordinator\, Kevin Jackson\, at 197club
 @autismberkshire.org.uk
CATEGORIES:Adults,Adults &amp; Carers,Leisure &amp; Social Activities
LOCATION:The Outlook\, 74 King's Road\, \, Reading\, RG1 3BJ\, England
GEO:51.45465074275068;-0.9653741925903887
X-APPLE-STRUCTURED-LOCATION;VALUE=URI;X-ADDRESS=74 King's Road\, \, Reading
 \, RG1 3BJ\, England;X-APPLE-RADIUS=100;X-TITLE=The Outlook:geo:51.4546507
 4275068,-0.9653741925903887
END:VEVENT
BEGIN:VTIMEZONE
TZID:Europe/London
X-LIC-LOCATION:Europe/London
BEGIN:STANDARD
DTSTART:20241027T010000
TZOFFSETFROM:+0100
TZOFFSETTO:+0000
TZNAME:GMT
END:STANDARD
END:VTIMEZONE
END:VCALENDAR