BEGIN:VCALENDAR
VERSION:2.0
PRODID:-//wp-events-plugin.com//7.2.2.1//EN
TZID:Europe/London
X-WR-TIMEZONE:Europe/London
BEGIN:VEVENT
UID:506@autismberkshire.org.uk
DTSTART;TZID=Europe/London:20160529T140000
DTEND;TZID=Europe/London:20160529T220000
DTSTAMP:20160508T001213Z
URL:https://www.autismberkshire.org.uk/otherevents/bas-fest-2016/
SUMMARY:BAS Fest 2016
DESCRIPTION:A relaxed day of live music and fun in aid of Autism Berkshire\
 , featuring a barbecue\, a chance to meet creatures great and small from 
 Owen's Animals\, facepainting and a raffle. Live music from Steve Morano &
 amp\; Friends\, The Seasons in Shorthand\, Aden Pearce\, Bear and Limpopo 
 Grove. All proceeds go to Autism Berkshire. Click here for more details.
CATEGORIES:Families,Fundraising,Leisure &amp; Social Activities
LOCATION:Nag's Head pub\, 5 Russell Street\,\, Reading\,\, Berkshire\, RG1 
 7XD\, England
GEO:51.454565798368094;-0.9822384607132335
X-APPLE-STRUCTURED-LOCATION;VALUE=URI;X-ADDRESS=5 Russell Street\,\, Readin
 g\,\, Berkshire\, RG1 7XD\, England;X-APPLE-RADIUS=100;X-TITLE=Nag's Head 
 pub:geo:51.454565798368094,-0.9822384607132335
END:VEVENT
BEGIN:VTIMEZONE
TZID:Europe/London
X-LIC-LOCATION:Europe/London
BEGIN:DAYLIGHT
DTSTART:20160327T020000
TZOFFSETFROM:+0000
TZOFFSETTO:+0100
TZNAME:BST
END:DAYLIGHT
END:VTIMEZONE
END:VCALENDAR