BEGIN:VCALENDAR
VERSION:2.0
PRODID:-//wp-events-plugin.com//7.2.2.1//EN
TZID:Europe/London
X-WR-TIMEZONE:Europe/London
BEGIN:VEVENT
UID:2490@autismberkshire.org.uk
DTSTART;TZID=Europe/London:20171211T183000
DTEND;TZID=Europe/London:20171211T203000
DTSTAMP:20171124T153317Z
URL:https://www.autismberkshire.org.uk/otherevents/bracknell-adult-social-
 group-2017-12-11/
SUMMARY:Bracknell adult social group
DESCRIPTION:For adults with autism spectrum conditions living in the Brackn
 ell Forest area and their carers. For more information\, call 01189 594 59
 4 or email contact@autismberkshire.org.uk
CATEGORIES:Adults,Adults &amp; Carers,Leisure &amp; Social Activities
LOCATION:Willows and Maples Children's Centre\, Priestwood Court Road\,\, B
 racknell\,\, Berkshire\,\, RG42 1TU\, England
GEO:51.42085062114188;-0.7625543163940165
X-APPLE-STRUCTURED-LOCATION;VALUE=URI;X-ADDRESS=Priestwood Court Road\,\, B
 racknell\,\, Berkshire\,\, RG42 1TU\, England;X-APPLE-RADIUS=100;X-TITLE=W
 illows and Maples Children's Centre:geo:51.42085062114188,-0.7625543163940
 165
END:VEVENT
BEGIN:VTIMEZONE
TZID:Europe/London
X-LIC-LOCATION:Europe/London
BEGIN:STANDARD
DTSTART:20171029T010000
TZOFFSETFROM:+0100
TZOFFSETTO:+0000
TZNAME:GMT
END:STANDARD
END:VTIMEZONE
END:VCALENDAR