BEGIN:VCALENDAR
VERSION:2.0
PRODID:-//wp-events-plugin.com//7.2.2.1//EN
TZID:Europe/London
X-WR-TIMEZONE:Europe/London
BEGIN:VEVENT
UID:860@autismberkshire.org.uk
DTSTART;TZID=Europe/London:20160721T163000
DTEND;TZID=Europe/London:20160721T183000
DTSTAMP:20160518T133827Z
URL:https://www.autismberkshire.org.uk/otherevents/bracknell-yoga-mindfuln
 ess-children-aged-5-17-2016-07-21/
SUMMARY:Bracknell Yoga Mindfulness for children aged 5 to 17
DESCRIPTION:For children aged five to 17 who are resident in Bracknell Fore
 st borough and have a diagnosis of an ASC\, or are on the waiting list for
  an assessment for an ASC. Two one-hour sessions from 4.30-5.30pm and 5.30
 -6.30pm. To book places call 01189 594 594 or email admin@autismberkshire.
 org.uk
CATEGORIES:Children,Leisure &amp; Social Activities
LOCATION:Jocks Lane Pavilion\, Jocks Lane\, Binfield Road\,\, Bracknell\,\,
  Berkshire\,\, RG12 2BH\, England
GEO:51.424946837448694;-0.7660338437531209
X-APPLE-STRUCTURED-LOCATION;VALUE=URI;X-ADDRESS=Jocks Lane\, Binfield Road\
 ,\, Bracknell\,\, Berkshire\,\, RG12 2BH\, England;X-APPLE-RADIUS=100;X-TI
 TLE=Jocks Lane Pavilion:geo:51.424946837448694,-0.7660338437531209
END:VEVENT
BEGIN:VTIMEZONE
TZID:Europe/London
X-LIC-LOCATION:Europe/London
BEGIN:DAYLIGHT
DTSTART:20160327T020000
TZOFFSETFROM:+0000
TZOFFSETTO:+0100
TZNAME:BST
END:DAYLIGHT
END:VTIMEZONE
END:VCALENDAR