BEGIN:VCALENDAR
VERSION:2.0
PRODID:-//wp-events-plugin.com//7.2.2.1//EN
TZID:Europe/London
X-WR-TIMEZONE:Europe/London
BEGIN:VEVENT
UID:4922@autismberkshire.org.uk
DTSTART;TZID=Europe/London:20260603T100000
DTEND;TZID=Europe/London:20260603T113000
DTSTAMP:20260309T133850Z
URL:https://www.autismberkshire.org.uk/otherevents/online-workshop-autism-
 mainstream-schools-3/
SUMMARY:Online workshop: Autism & Mainstream Schools
DESCRIPTION:Many autistic children and teenagers find the mainstream school
  environment challenging. The workshop looks at the legislation around sup
 port at school and the opportunities and limitations of potential support 
 strategies.\n\nParents and carers will be encouraged to share ideas that h
 ave helped their child and may help others in similar circumstances.\n\nIt
  is provided by the Berkshire West Autism &amp\; ADHD Support Service for 
 the parents and carers of autistic children and young people aged up to 18
  who live in the Berkshire West NHS area (Reading\, Wokingham and West Ber
 kshire) whether they have a diagnosis or are waiting for a Berkshire CAMHS
  assessment\, and who are in mainstream education or home-educated and do 
 not have learning disabilities.\n\nFor more information and to request fr
 ee places\, email contact@autismberkshire.org.uk or complete the online c
 ontact form.
CATEGORIES:Courses &amp; Workshops,Parents &amp; Carers
END:VEVENT
BEGIN:VTIMEZONE
TZID:Europe/London
X-LIC-LOCATION:Europe/London
BEGIN:DAYLIGHT
DTSTART:20260329T020000
TZOFFSETFROM:+0000
TZOFFSETTO:+0100
TZNAME:BST
END:DAYLIGHT
END:VTIMEZONE
END:VCALENDAR