BEGIN:VCALENDAR
VERSION:2.0
PRODID:-//wp-events-plugin.com//7.2.2.1//EN
TZID:Europe/London
X-WR-TIMEZONE:Europe/London
BEGIN:VEVENT
UID:4891@autismberkshire.org.uk
DTSTART;TZID=Europe/London:20260702T123000
DTEND;TZID=Europe/London:20260702T140000
DTSTAMP:20260303T125549Z
URL:https://www.autismberkshire.org.uk/otherevents/online-workshop-eating-
 mealtime-challenges-in-autistic-children-6/
SUMMARY:Online workshop: Eating & Mealtime Challenges in Autistic Children
DESCRIPTION:Problems eating a wide range of foods are common in autistic pe
 ople. This free online workshop will take a look at factors underlying foo
 d refusal\, some tips to help support children and young people and where 
 to get specialist advice and support.\n\nNB: This workshop is provided by 
 the Berkshire West Autism &amp\; ADHD Support Service for parents/carers r
 egistered with a GP surgery in the Berkshire West NHS area (Reading\, Woki
 ngham\, West Berkshire) whose children have an autism diagnosis\, or are o
 n the waiting list for a Berkshire CAMHS assessment.\n\nIf you would like 
 to register an interest in attending this workshop or have any questions\,
  please complete our online contact form\, email contact@autismberkshire.
 org.uk or call 01189 594 594 (option 1) and leave a voicemail message.
CATEGORIES:Courses &amp; Workshops,Parents &amp; Carers
END:VEVENT
BEGIN:VTIMEZONE
TZID:Europe/London
X-LIC-LOCATION:Europe/London
BEGIN:DAYLIGHT
DTSTART:20260329T020000
TZOFFSETFROM:+0000
TZOFFSETTO:+0100
TZNAME:BST
END:DAYLIGHT
END:VTIMEZONE
END:VCALENDAR