BEGIN:VCALENDAR
VERSION:2.0
PRODID:-//wp-events-plugin.com//7.2.2.1//EN
TZID:Europe/London
X-WR-TIMEZONE:Europe/London
BEGIN:VEVENT
UID:4883@autismberkshire.org.uk
DTSTART;TZID=Europe/London:20260507T123000
DTEND;TZID=Europe/London:20260507T140000
DTSTAMP:20260303T124842Z
URL:https://www.autismberkshire.org.uk/otherevents/online-workshop-sensory
 -differences-part-1-15/
SUMMARY:Online Workshop: Sensory Differences Part 1
DESCRIPTION:This free autism advice workshop  looks at sensory systems and 
 how they work\, how autistic people may process sensory information differ
 ently and have different sensory experiences\, and strategies to help with
  sensory needs.\nPlease note that this free online workshop is in two part
 s. The second session will take place on Thursday\, May 14\, at the same t
 ime.\nNB: This workshop is provided by the Berkshire West Autism &amp\; AD
 HD Support Service for parents/carers registered with a GP surgery in the 
 Berkshire West NHS area (Reading\, Wokingham\, West Berkshire)\, whose chi
 ldren have an autism diagnosis\, or are on the Berkshire CAMHS waiting lis
 t for assessment.\n\nIf you would like to register an interest in attendin
 g this two-part workshop or have any questions\, please complete our onlin
 e contact form\, email contact@autismberkshire.org.uk or call 01189 594 
 594 (option 1) and leave a voicemail message.
CATEGORIES:Courses &amp; Workshops,Parents &amp; Carers
END:VEVENT
BEGIN:VTIMEZONE
TZID:Europe/London
X-LIC-LOCATION:Europe/London
BEGIN:DAYLIGHT
DTSTART:20260329T020000
TZOFFSETFROM:+0000
TZOFFSETTO:+0100
TZNAME:BST
END:DAYLIGHT
END:VTIMEZONE
END:VCALENDAR