BEGIN:VCALENDAR
VERSION:2.0
PRODID:-//wp-events-plugin.com//7.2.2.1//EN
TZID:Europe/London
X-WR-TIMEZONE:Europe/London
BEGIN:VEVENT
UID:1773@autismberkshire.org.uk
DTSTART;TZID=Europe/London:20170512T093000
DTEND;TZID=Europe/London:20170512T113000
DTSTAMP:20170412T103709Z
URL:https://www.autismberkshire.org.uk/otherevents/reading-asc-support-gro
 up-2017-05-12/
SUMMARY:Reading ASC Support Group
DESCRIPTION:These meetings provide a chance for local parents and carers t
 o meet and share experiences and support. They are free\, very informal a
 nd tea\, coffee and biscuits are provided. For more details\, email conta
 ct@autismberkshire.org.uk or call 01189 594 594.\n\n 	The guest speaker a
 t this meeting will be Charlotte Netherton-Sinclair\, the Youth and Fami
 lies Development Worker at Reading Children's and Voluntary Youth Service
 s (RCVYS). She will talk about the advice and support that is available t
 o young people aged 16 to 24 from Elevate Reading.\n
CATEGORIES:Parents &amp; Carers,Support Groups
LOCATION:Autism Berkshire Office\, 7 Richfield Place\, Richfield Avenue\,\,
  Reading\,\, Berkshire\,\, RG1 8EQ\, England
GEO:51.463341;-0.986081
X-APPLE-STRUCTURED-LOCATION;VALUE=URI;X-ADDRESS=7 Richfield Place\, Richfie
 ld Avenue\,\, Reading\,\, Berkshire\,\, RG1 8EQ\, England;X-APPLE-RADIUS=1
 00;X-TITLE=Autism Berkshire Office:geo:51.463341,-0.986081
END:VEVENT
BEGIN:VTIMEZONE
TZID:Europe/London
X-LIC-LOCATION:Europe/London
BEGIN:DAYLIGHT
DTSTART:20170326T020000
TZOFFSETFROM:+0000
TZOFFSETTO:+0100
TZNAME:BST
END:DAYLIGHT
END:VTIMEZONE
END:VCALENDAR